BEGIN:VCALENDAR
VERSION:2.0
PRODID:-//Squarespace Inc/Squarespace 6//v6//EN
BEGIN:VEVENT
UID:52c2e960e4b09fd87288808f@squarespace.com
DTSTAMP:20140425T123636Z
DTSTART:20140427T003000Z
DTEND:20140427T043000Z
SUMMARY:The Fox on the Fairway Auditions
GEO:-36.923753;174.789709
LOCATION:Dolphin Theatre\, 12 Spring Street\, Onehunga\, Auckland\, New Zea
 land
END:VEVENT
END:VCALENDAR
