BEGIN:VCALENDAR
VERSION:2.0
PRODID:-//Squarespace Inc/Squarespace 6//v6//EN
BEGIN:VEVENT
UID:52c0c297e4b0fef45e653e20@squarespace.com
DTSTAMP:20140425T124956Z
DTSTART:20140112T060000Z
DTEND:20140112T093000Z
SUMMARY:Play Reading
GEO:-36.863016;174.729079
LOCATION:Carl Drake\, 13 Old Mill Road\, Grey Lynn\, Auckland 1021\, New Ze
 aland
END:VEVENT
END:VCALENDAR
