BEGIN:VCALENDAR
VERSION:2.0
PRODID:-//Squarespace Inc/Squarespace 6//v6//EN
BEGIN:VEVENT
UID:55ea9bdbe4b010c188d4bfe2@squarespace.com
DTSTAMP:20150905T075423Z
DTSTART:20150906T080000Z
DTEND:20150906T103000Z
SUMMARY:Show 1
GEO:-36.923753;174.789709
LOCATION:Dolphin Theatre\, 12 Spring Street\, Onehunga\, Auckland\, 1061\, 
 New Zealand
END:VEVENT
END:VCALENDAR
